BEGIN:VCALENDAR
VERSION:2.0
PRODID:-//eventon.com NONSGML v1.0//EN
CALSCALE:GREGORIAN
METHOD:PUBLISH
BEGIN:VEVENT
UID:69e745543a915
DTSTAMP:20260421T093724Z
DTSTART:20231109T080000Z
DTEND:20231109T140000Z
LOCATION:
SUMMARY:SeM@FoRjev utrip
DESCRIPTION:strokovno srečanje\nhttps://www.zbds-zveza.si/events/semforjev
 -utrip-2/
URL:https://www.zbds-zveza.si/events/semforjev-utrip-2/
END:VEVENT
END:VCALENDAR