BEGIN:VCALENDAR
VERSION:2.0
PRODID:-//eventon.com NONSGML v1.0//EN
CALSCALE:GREGORIAN
METHOD:PUBLISH
BEGIN:VEVENT
UID:69e75908d609d
DTSTAMP:20260421T110128Z
DTSTART:20221110T080000Z
DTEND:20221110T140000Z
LOCATION:
SUMMARY:Medijska pismenost je kompetenca
DESCRIPTION:Medijska pismenost je kompetenca\nhttps://www.zbds-zveza.si/eve
 nts/semforjev-utrip/var/event_access
URL:https://www.zbds-zveza.si/events/semforjev-utrip/var/event_access
END:VEVENT
END:VCALENDAR