BEGIN:VCALENDAR
VERSION:2.0
PRODID:-//eventon.com NONSGML v1.0//EN
CALSCALE:GREGORIAN
METHOD:PUBLISH
BEGIN:VEVENT
UID:69e74980d5152
DTSTAMP:20260421T095512Z
DTSTART:20241114T080000Z
DTEND:20241114T160000Z
LOCATION:
SUMMARY:SeM@FoRjev utrip
DESCRIPTION:strokovno srečanje Sekcije za mladinsko knjižničarstvo\nhttp
 s://www.zbds-zveza.si/events/semforjev-utrip-3/
URL:https://www.zbds-zveza.si/events/semforjev-utrip-3/
END:VEVENT
END:VCALENDAR