BEGIN:VCALENDAR
VERSION:2.0
PRODID:-//eventon.com NONSGML v1.0//EN
CALSCALE:GREGORIAN
METHOD:PUBLISH
BEGIN:VEVENT
UID:69e74c3445b78
DTSTAMP:20260421T100644Z
DTSTART:20251113T080000Z
DTEND:20251113T160000Z
LOCATION:
SUMMARY:SeM@FoRjev utrip
DESCRIPTION:strokovno srečanje Sekcije za mladinsko knjižničarstvo\nhttp
 s://www.zbds-zveza.si/events/semforjev-utrip-4/
URL:https://www.zbds-zveza.si/events/semforjev-utrip-4/
END:VEVENT
END:VCALENDAR